BEGIN:VCALENDAR
VERSION:2.0
PRODID:www.stappen-shoppen.nl
BEGIN:VEVENT
UID:stappen-shoppen.nl/entity/69aaae4512d2bb2d8a0a5ee9
DTSTAMP:20260421T165159Z
ORGANIZER;CN=:MAILTO:
DTSTART:20260426T120000Z
DTEND:20260426T170000Z
URL:https://en.etten-leurcityapp.nl/ical/69aaae4512d2bb2d8a0a5ee9
SUMMARY:Hollandse Middag op de Markt
DESCRIPTION:Diverse artiesten komen jullie opwarmen voor een Koningsnacht in de kroegen
END:VEVENT
END:VCALENDAR

