BEGIN:VCALENDAR
VERSION:2.0
PRODID:www.stappen-shoppen.nl
BEGIN:VEVENT
UID:stappen-shoppen.nl/entity/69aaad0f66b32ff5bc0a5251
DTSTAMP:20260421T170935Z
ORGANIZER;CN=:MAILTO:
DTSTART:20260425T180000Z
DTEND:20260425T215900Z
URL:https://en.etten-leurcityapp.nl/ical/69aaad0f66b32ff5bc0a5251
SUMMARY:GIGA Oranje Café op de Markt
DESCRIPTION:Een avond met muziek van Nederlandse bodem.
END:VEVENT
END:VCALENDAR

