BEGIN:VCALENDAR
VERSION:2.0
PRODID:www.stappen-shoppen.nl
BEGIN:VEVENT
UID:stappen-shoppen.nl/entity/69660bf6cc4048f53003d1ad
DTSTAMP:20260419T174909Z
ORGANIZER;CN=:MAILTO:
DTSTART:20260214T090500Z
DTEND:20260214T230000Z
URL:https://en.etten-leurcityapp.nl/ical/69660bf6cc4048f53003d1ad
SUMMARY:Carnaval bij Roeloffs
DESCRIPTION:Met live optredens
END:VEVENT
BEGIN:VEVENT
UID:stappen-shoppen.nl/entity/69660bf6cc4048f53003d1ad
DTSTAMP:20260419T174909Z
ORGANIZER;CN=:MAILTO:
DTSTART:20260215T091000Z
DTEND:20260115T230000Z
URL:https://en.etten-leurcityapp.nl/ical/69660bf6cc4048f53003d1ad
SUMMARY:Carnaval bij Roeloffs
DESCRIPTION:Met live optredens
END:VEVENT
BEGIN:VEVENT
UID:stappen-shoppen.nl/entity/69660bf6cc4048f53003d1ad
DTSTAMP:20260419T174909Z
ORGANIZER;CN=:MAILTO:
DTSTART:20260216T091000Z
DTEND:20260116T230000Z
URL:https://en.etten-leurcityapp.nl/ical/69660bf6cc4048f53003d1ad
SUMMARY:Carnaval bij Roeloffs
DESCRIPTION:Met live optredens
END:VEVENT
BEGIN:VEVENT
UID:stappen-shoppen.nl/entity/69660bf6cc4048f53003d1ad
DTSTAMP:20260419T174909Z
ORGANIZER;CN=:MAILTO:
DTSTART:20260217T091100Z
DTEND:20260113T221100Z
URL:https://en.etten-leurcityapp.nl/ical/69660bf6cc4048f53003d1ad
SUMMARY:Carnaval bij Roeloffs
DESCRIPTION:Met live optredens
END:VEVENT
END:VCALENDAR

