BEGIN:VCALENDAR
VERSION:2.0
PRODID:www.stappen-shoppen.nl
BEGIN:VEVENT
UID:stappen-shoppen.nl/entity/685175a43f14eb7fbf0076fd
DTSTAMP:20260420T200733Z
ORGANIZER;CN=:MAILTO:
DTSTART:20250629T080000Z
DTEND:20250629T093000Z
URL:https://en.etten-leurcityapp.nl/ical/685175a43f14eb7fbf0076fd
SUMMARY:Kermisviering in de botsautootjestent
DESCRIPTION:Samenkomen om de kermisviering te beleven. 
END:VEVENT
END:VCALENDAR

